BEGIN:VCALENDAR
VERSION:2.0
PRODID:http://www.egotec.com/
METHOD:PUBLISH
BEGIN:VTIMEZONE
X-LIC-LOCATION:Europe/Berlin
TZID:Europe/Berlin
END:VTIMEZONE
BEGIN:VEVENT
CREATED:20260227T092926Z
SUMMARY:Breaking the Bias
DTSTART:20260304T090000Z
DTEND:20260304T150000Z
LOCATION:Seminarraum Z4, Zwätzengasse 4, Jena
DESCRIPTION:Breaking the Bias\n\nExzellenz mit robuster Forschung schaffen\n\nhttps://www.fsv.uni-jena.de/83611/breaking-the-bias-workshop
END:VEVENT
END:VCALENDAR
